BEGIN:VCALENDAR
VERSION:2.0
PRODID:-//Intand Corporation//Tandem//EN
METHOD:PUBLISH
BEGIN:VEVENT
DTSTAMP:20260419T203649Z
DTSTART:20260528T185000Z
DTEND:20260528T204500Z
TRANSP:TRANSPARENT
PRIORITY:0
SUMMARY:RA- Boys Basketball Practice
LOCATION:Canton South High School > Red Ash Gym
DESCRIPTION:Groups:\nCanton S HS Boys Basketball\n\nSchools:\nCanton South
  High School\n\nLocation:\nCanton South High School > Red Ash Gym\n\n
URL;VALUE=URI:https://cantonlocalschooldistrict.tandem.co/index.php?type=v
 iew&action=event&id=27863
CREATED:20260410T150029Z
LAST-MODIFIED:20260410T150029Z
UID:event-27863-cantonlocalathleticdepartment@intand.com
END:VEVENT
END:VCALENDAR
