BEGIN:VCALENDAR
VERSION:2.0
PRODID:-//Intand Corporation//Tandem//EN
METHOD:PUBLISH
BEGIN:VEVENT
DTSTAMP:20260421T164751Z
DTSTART:20260315T210000Z
DTEND:20260316T010000Z
TRANSP:TRANSPARENT
PRIORITY:0
SUMMARY:PAC - Musical Set Building
LOCATION:Canton South High School > Performing Arts Center
DESCRIPTION:Schools:\nCanton South High School\n\nLocation:\nCanton South 
 High School > Performing Arts Center\n\n
URL;VALUE=URI:https://cantonlocalschooldistrict.tandem.co/index.php?type=v
 iew&action=event&id=27559
CREATED:20260225T162205Z
LAST-MODIFIED:20260225T162648Z
UID:event-27559-cantonlocalathleticdepartment@intand.com
END:VEVENT
END:VCALENDAR
