BEGIN:VCALENDAR
VERSION:2.0
PRODID:-//Intand Corporation//Tandem//EN
METHOD:PUBLISH
BEGIN:VEVENT
DTSTAMP:20260421T152117Z
DTSTART:20260415T210000Z
DTEND:20260416T000000Z
TRANSP:TRANSPARENT
PRIORITY:0
SUMMARY:[Cancelled] JV Softball @ Northwest
LOCATION:Northwest High School
DESCRIPTION:Groups:\nJV Softball\n\nSchools:\nCanton South High School\n\n
 Location:\nNorthwest High School\n\n
URL;VALUE=URI:https://cantonlocalschooldistrict.tandem.co/index.php?type=v
 iew&action=event&id=26939
CREATED:20260116T134202Z
LAST-MODIFIED:20260325T113141Z
UID:event-26939-cantonlocalathleticdepartment@intand.com
END:VEVENT
END:VCALENDAR
