BEGIN:VCALENDAR
VERSION:2.0
PRODID:-//Intand Corporation//Tandem//EN
METHOD:PUBLISH
BEGIN:VEVENT
DTSTAMP:20260421T181726Z
DTSTART;VALUE=DATE:20261009
DTEND;VALUE=DATE:20261010
TRANSP:TRANSPARENT
PRIORITY:0
SUMMARY:Teacher Day - No Students
LOCATION:Canton Local School District
DESCRIPTION:Location:\nCanton Local School District\n\n
URL;VALUE=URI:https://cantonlocalschooldistrict.tandem.co/index.php?type=v
 iew&action=event&id=26883
CREATED:20260115T215337Z
LAST-MODIFIED:20260115T215337Z
UID:event-26883-cantonlocalathleticdepartment@intand.com
END:VEVENT
END:VCALENDAR
