BEGIN:VCALENDAR
VERSION:2.0
PRODID:-//Intand Corporation//Tandem//EN
METHOD:PUBLISH
BEGIN:VEVENT
DTSTAMP:20260421T164751Z
DTSTART:20260311T190000Z
DTEND:20260311T220000Z
TRANSP:TRANSPARENT
PRIORITY:0
SUMMARY:Talent Show DRESS REHEARSAL
LOCATION:Canton South High School > Performing Arts Center
DESCRIPTION:Schools:\nCanton South High School\n\nLocation:\nCanton South 
 High School > Performing Arts Center\n\n
URL;VALUE=URI:https://cantonlocalschooldistrict.tandem.co/index.php?type=v
 iew&action=event&id=26858
CREATED:20260108T174802Z
LAST-MODIFIED:20260108T175722Z
UID:event_request-26858-cantonlocalathleticdepartment@intand.com
END:VEVENT
END:VCALENDAR
