BEGIN:VCALENDAR
VERSION:2.0
PRODID:-//Intand Corporation//Tandem//EN
METHOD:PUBLISH
BEGIN:VEVENT
DTSTAMP:20260421T170531Z
DTSTART:20260312T230000Z
DTEND:20260313T013000Z
TRANSP:TRANSPARENT
PRIORITY:0
SUMMARY:PAC - Talent Show 
LOCATION:Canton South High School > Performing Arts Center
DESCRIPTION:Schools:\nCanton South High School\n\nLocation:\nCanton South 
 High School > Performing Arts Center\n\n
URL;VALUE=URI:https://cantonlocalschooldistrict.tandem.co/index.php?type=v
 iew&action=event&id=26857
CREATED:20260108T174729Z
LAST-MODIFIED:20260309T135837Z
UID:event_request-26857-cantonlocalathleticdepartment@intand.com
END:VEVENT
END:VCALENDAR
