BEGIN:VCALENDAR
VERSION:2.0
PRODID:-//Intand Corporation//Tandem//EN
METHOD:PUBLISH
BEGIN:VEVENT
DTSTAMP:20260421T161206Z
DTSTART:20260129T130000Z
DTEND:20260129T193000Z
TRANSP:TRANSPARENT
PRIORITY:0
SUMMARY:PAC - Scheduling Mtgs
LOCATION:Canton South High School > Performing Arts Center
DESCRIPTION:Groups:\nCSHS Counselors\n\nSchools:\nCanton South High School
 \n\nLocation:\nCanton South High School > Performing Arts Center\n\n
URL;VALUE=URI:https://cantonlocalathleticdepartment.tandem.co/index.php?ty
 pe=view&action=event&id=25513
CREATED:20250901T193504Z
LAST-MODIFIED:20260116T194514Z
UID:event_request-25513-cantonlocalathleticdepartment@intand.com
END:VEVENT
END:VCALENDAR
