BEGIN:VCALENDAR
VERSION:2.0
PRODID:-//Intand Corporation//Tandem//EN
METHOD:PUBLISH
BEGIN:VEVENT
DTSTAMP:20260421T170624Z
DTSTART:20251109T200000Z
DTEND:20251109T230000Z
TRANSP:TRANSPARENT
PRIORITY:0
SUMMARY:PAC - Tarzan the Musical
LOCATION:Canton South High School > Parking Lot\, Canton South High School
  > Performing Arts Center
DESCRIPTION:Schools:\nCanton South High School\n\nLocations:\nCanton South
  High School > Parking Lot\nCanton South High School > Performing Arts Cen
 ter\n\n
URL;VALUE=URI:https://cantonlocalschooldistrict.tandem.co/index.php?type=v
 iew&action=event&id=23881
CREATED:20250123T150701Z
LAST-MODIFIED:20251109T204051Z
UID:event-23881-cantonlocalathleticdepartment@intand.com
END:VEVENT
END:VCALENDAR
