BEGIN:VCALENDAR
VERSION:2.0
PRODID:-//Intand Corporation//Tandem//EN
METHOD:PUBLISH
BEGIN:VEVENT
DTSTAMP:20260421T170450Z
DTSTART:20260324T230000Z
DTEND:20260325T010000Z
TRANSP:TRANSPARENT
PRIORITY:0
SUMMARY:PAC/Cafe - Tri-M/Thespian Induction Ceremony
LOCATION:Canton South High School > Performing Arts Center\, Canton South 
 High School > Cafeteria
DESCRIPTION:Schools:\nCanton South High School\n\nLocations:\nCanton South
  High School > Performing Arts Center\nCanton South High School > Cafeteri
 a\n\n
URL;VALUE=URI:https://cantonlocalschooldistrict.tandem.co/index.php?type=v
 iew&action=event&id=23874
CREATED:20250123T150139Z
LAST-MODIFIED:20260311T183124Z
UID:event-23874-cantonlocalathleticdepartment@intand.com
END:VEVENT
END:VCALENDAR
