BEGIN:VCALENDAR
VERSION:2.0
PRODID:-//Intand Corporation//Tandem//EN
METHOD:PUBLISH
BEGIN:VEVENT
DTSTAMP:20260421T151956Z
DTSTART;VALUE=DATE:20260406
DTEND;VALUE=DATE:20260407
TRANSP:TRANSPARENT
PRIORITY:0
SUMMARY:No School Spring Break 
LOCATION:Canton Local School District
DESCRIPTION:Location:\nCanton Local School District\n\n
URL;VALUE=URI:https://cantonlocalschooldistrict.tandem.co/index.php?type=v
 iew&action=event&id=23811
CREATED:20250115T171932Z
LAST-MODIFIED:20250115T171932Z
UID:event-23811-cantonlocalathleticdepartment@intand.com
END:VEVENT
END:VCALENDAR
